BEGIN:VCALENDAR
VERSION:2.0
PRODID:-//Mots en marge - ECPv6.15.14//NONSGML v1.0//EN
CALSCALE:GREGORIAN
METHOD:PUBLISH
X-WR-CALNAME:Mots en marge
X-ORIGINAL-URL:https://motsenmarge.com
X-WR-CALDESC:Évènements pour Mots en marge
REFRESH-INTERVAL;VALUE=DURATION:PT1H
X-Robots-Tag:noindex
X-PUBLISHED-TTL:PT1H
BEGIN:VTIMEZONE
TZID:Europe/Paris
BEGIN:DAYLIGHT
TZOFFSETFROM:+0100
TZOFFSETTO:+0200
TZNAME:CEST
DTSTART:20250330T010000
END:DAYLIGHT
BEGIN:STANDARD
TZOFFSETFROM:+0200
TZOFFSETTO:+0100
TZNAME:CET
DTSTART:20251026T010000
END:STANDARD
BEGIN:DAYLIGHT
TZOFFSETFROM:+0100
TZOFFSETTO:+0200
TZNAME:CEST
DTSTART:20260329T010000
END:DAYLIGHT
BEGIN:STANDARD
TZOFFSETFROM:+0200
TZOFFSETTO:+0100
TZNAME:CET
DTSTART:20261025T010000
END:STANDARD
BEGIN:DAYLIGHT
TZOFFSETFROM:+0100
TZOFFSETTO:+0200
TZNAME:CEST
DTSTART:20270328T010000
END:DAYLIGHT
BEGIN:STANDARD
TZOFFSETFROM:+0200
TZOFFSETTO:+0100
TZNAME:CET
DTSTART:20271031T010000
END:STANDARD
END:VTIMEZONE
BEGIN:VEVENT
DTSTART;TZID=Europe/Paris:20260122T190000
DTEND;TZID=Europe/Paris:20260122T203000
DTSTAMP:20260420T063252
CREATED:20251227T162018Z
LAST-MODIFIED:20251227T162019Z
UID:10000145-1769108400-1769113800@motsenmarge.com
SUMMARY:Rencontre avec Anna Hope "Nos héritages"
DESCRIPTION:Nous avons l’immense joie de recevoir la romancière anglaise Anna Hope\, de passage à Paris\, et qui a choisi Mots en Marge pour son unique rencontre en librairie. Anna Hope est l’autrice de « La salle de bal » et de « Nos espérances »\, deux chefs-d’oeuvres mêlant romanesque\, finesse et intelligence. Elle revient avec « Nos héritages »\, un roman tout aussi réussi\, dont l’intrigue est la suivante :  \n\n\n\nLe richissime Philip Brooke vient de mourir\, laissant derrière lui un patrimoine grandiose : le plus beau manoir du Sussex\, datant du XVIIIe siècle et comprenant pas moins d’une vingtaine de chambres\, entouré d’un domaine luxuriant de centaines d’hectares. Mari volage et père absent\, il n’est regretté ni de sa femme ni de ses trois enfants. En revanche\, sa vaste fortune déclenche des conflits galopants dans la famille car chacun veut mettre la main sur cette succession hors norme. Le clan Brooke réussira-t-il à ne pas voler en éclats avant le jour de l’enterrement ? Drame familial haut en couleur et en tensions\, Nos héritages nous plonge dans les arcanes fascinants d’une famille d’aristocrates britanniques tiraillée par l’argent et les secrets du passé. \n\n\n\nNe manquez sous aucun prétexte ce rendez-vous\, jeudi 22 janvier 2026 à 19 heures précises. Précision : l’autrice parle français et sera accompagnée d’une traductrice si besoin.
URL:https://motsenmarge.com/evenement/rencontre-avec-anna-hope-nos-heritages/
CATEGORIES:Rencontre et dédicace
ATTACH;FMTTYPE=image/jpeg:https://motsenmarge.com/wp-content/uploads/2025/12/ANNA-HOPE-scaled.jpg
END:VEVENT
BEGIN:VEVENT
DTSTART;TZID=Europe/Paris:20260124T103000
DTEND;TZID=Europe/Paris:20260124T123000
DTSTAMP:20260420T063252
CREATED:20260107T071650Z
LAST-MODIFIED:20260107T071651Z
UID:10000149-1769250600-1769257800@motsenmarge.com
SUMMARY:Echange et dédicace avec Alexia Stresi
DESCRIPTION:Nous avons le plaisir de retrouver la romancière Alexia Stresi\, qui nous avait enchanté avec ses précédents romans « Des lendemains qui chantent » et « Looping ». Elle publie en ce début d’année « Grand prince »\, l’histoire de Simone\, 85 ans\, qui au presque soir de son existence\, va  vivre des moments inattendus… Alexia Stresi sait nous surprendre\, en convoquant notamment des personnages ayant réellement existé\, comme par exemple le peintre Soulages. \n\n\n\nVenez échanger avec Alexia samedi 24 janvier dans la matinée\, venez la découvrir si vous ne l’avez pas encore lue.
URL:https://motsenmarge.com/evenement/echange-et-dedicace-avec-alexia-stresi-2/
CATEGORIES:Rencontre et dédicace
ATTACH;FMTTYPE=image/jpeg:https://motsenmarge.com/wp-content/uploads/2023/02/STRESI.jpg
END:VEVENT
END:VCALENDAR