BEGIN:VCALENDAR
VERSION:2.0
PRODID:-//Mots en marge - ECPv6.15.14//NONSGML v1.0//EN
CALSCALE:GREGORIAN
METHOD:PUBLISH
X-WR-CALNAME:Mots en marge
X-ORIGINAL-URL:https://motsenmarge.com
X-WR-CALDESC:Évènements pour Mots en marge
REFRESH-INTERVAL;VALUE=DURATION:PT1H
X-Robots-Tag:noindex
X-PUBLISHED-TTL:PT1H
BEGIN:VTIMEZONE
TZID:Europe/Paris
BEGIN:DAYLIGHT
TZOFFSETFROM:+0100
TZOFFSETTO:+0200
TZNAME:CEST
DTSTART:20250330T010000
END:DAYLIGHT
BEGIN:STANDARD
TZOFFSETFROM:+0200
TZOFFSETTO:+0100
TZNAME:CET
DTSTART:20251026T010000
END:STANDARD
BEGIN:DAYLIGHT
TZOFFSETFROM:+0100
TZOFFSETTO:+0200
TZNAME:CEST
DTSTART:20260329T010000
END:DAYLIGHT
BEGIN:STANDARD
TZOFFSETFROM:+0200
TZOFFSETTO:+0100
TZNAME:CET
DTSTART:20261025T010000
END:STANDARD
BEGIN:DAYLIGHT
TZOFFSETFROM:+0100
TZOFFSETTO:+0200
TZNAME:CEST
DTSTART:20270328T010000
END:DAYLIGHT
BEGIN:STANDARD
TZOFFSETFROM:+0200
TZOFFSETTO:+0100
TZNAME:CET
DTSTART:20271031T010000
END:STANDARD
END:VTIMEZONE
BEGIN:VEVENT
DTSTART;TZID=Europe/Paris:20260519T190000
DTEND;TZID=Europe/Paris:20260519T203000
DTSTAMP:20260423T003355
CREATED:20260121T153305Z
LAST-MODIFIED:20260121T153307Z
UID:10000151-1779217200-1779222600@motsenmarge.com
SUMMARY:Rencontre et dédicace Didier Decoin
DESCRIPTION:Nous sommes très heureux de recevoir l’écrivain Didier Decoin\, membre du jury Goncourt et ayant lui-même été auparavant couronné en 1977 par ce même prix pour « John l’enfer ».  \n\n\n\nDans ce dernier roman\, Didier Decoin revient sur un fait divers qui a eu lieu en Caroline du Nord en mars 1944 : deux fillettes blanches sont assassinées\, le coupable tout désigné est un gamin noir de 14 ans. L’affaire est classée jusqu’à ce que\, 7 ans plus tard\, une juge décide\, sous l’insistance de son greffier\, de rouvrir l’affaire. C’est passionnant\, c’est extrêmement bien écrit\, c’est actuel. \n\n\n\nDidier Decoin nous livre là un roman qui marquera les esprits. Rendez-vous mardi 19 mai pour l’écouter en parler.
URL:https://motsenmarge.com/evenement/rencontre-et-dedicace-didier-decoin/
CATEGORIES:Rencontre et dédicace
ATTACH;FMTTYPE=image/jpeg:https://motsenmarge.com/wp-content/uploads/2026/01/Didier-Decoin-©BenjaminDecoin.jpg
END:VEVENT
END:VCALENDAR